BEGIN:VCALENDAR
VERSION:2.0
PRODID:-//herne.business - ECPv6.15.20//NONSGML v1.0//EN
CALSCALE:GREGORIAN
METHOD:PUBLISH
X-ORIGINAL-URL:https://www.herne.business
X-WR-CALDESC:Veranstaltungen für herne.business
REFRESH-INTERVAL;VALUE=DURATION:PT1H
X-Robots-Tag:noindex
X-PUBLISHED-TTL:PT1H
BEGIN:VTIMEZONE
TZID:Europe/Berlin
BEGIN:DAYLIGHT
TZOFFSETFROM:+0100
TZOFFSETTO:+0200
TZNAME:CEST
DTSTART:20250330T010000
END:DAYLIGHT
BEGIN:STANDARD
TZOFFSETFROM:+0200
TZOFFSETTO:+0100
TZNAME:CET
DTSTART:20251026T010000
END:STANDARD
BEGIN:DAYLIGHT
TZOFFSETFROM:+0100
TZOFFSETTO:+0200
TZNAME:CEST
DTSTART:20260329T010000
END:DAYLIGHT
BEGIN:STANDARD
TZOFFSETFROM:+0200
TZOFFSETTO:+0100
TZNAME:CET
DTSTART:20261025T010000
END:STANDARD
BEGIN:DAYLIGHT
TZOFFSETFROM:+0100
TZOFFSETTO:+0200
TZNAME:CEST
DTSTART:20270328T010000
END:DAYLIGHT
BEGIN:STANDARD
TZOFFSETFROM:+0200
TZOFFSETTO:+0100
TZNAME:CET
DTSTART:20271031T010000
END:STANDARD
END:VTIMEZONE
BEGIN:VEVENT
DTSTART;TZID=Europe/Berlin:20260616T093000
DTEND;TZID=Europe/Berlin:20260616T120000
DTSTAMP:20260425T214808
CREATED:20251217T093104Z
LAST-MODIFIED:20251217T093104Z
UID:9019-1781602200-1781611200@www.herne.business
SUMMARY:Einnahmen-Überschuss-Rechnung - Teil II
DESCRIPTION:Inhalt\nIn diesem Online Seminar werden die wichtigsten Grundlagen zur Einnahme-Überschuss-Rechnung\npraxisnah und einfach erläutert.\n\n\nZielgruppe\nExistenzgründerinnen und -gründer\, junge Unternehmen\n\n\nThemen\n\n\nGrundsätze der Einnahmen-Überschuss-Rechnung (EÜR)\nBetriebseinnahmen und Betriebsausgaben\nBehandlung ausgewählter Betriebsausgaben\nDas Zu- und Abflussprinzip und dessen Ausnahmen\nUmsatzsteuer\, Vorsteuer und Gewerbesteuer im Rahmen der Einnahmen-Überschuss-Rechnung (EÜR)\nIst- und Sollversteuerung im Rahmen der Umsatzsteuer\nUmsatzsteuerliche Kleinunternehmerregelung\nAbgrenzung der Einnahmen-Überschuss-Rechnung (EÜR) zum Jahresabschluss\nDas Formular Anlage „EÜR“\n\n\n\n\nReferenten\nNatalia und Miroslaw Kask\, Steuerberatung Kask\, Herten\n\n\nAnmeldung\nDie Anmeldung für Teil II erfolgt automatisch über die Anmeldung für Teil I (zusammenhängendes Seminar)\n\n\nKooperation \nSTARTEN in Herne und im Vest
URL:https://www.herne.business/event/einnahmen-ueberschuss-rechnung-teil-ii-3/
LOCATION:Online
CATEGORIES:Startercenter
ORGANIZER;CN="STARTERCENTER Kreis Recklinghausen":MAILTO:startercenter@kreis-re.de
END:VEVENT
END:VCALENDAR