BEGIN:VCALENDAR
VERSION:2.0
PRODID:-//herne.business - ECPv6.15.20//NONSGML v1.0//EN
CALSCALE:GREGORIAN
METHOD:PUBLISH
X-WR-CALNAME:herne.business
X-ORIGINAL-URL:https://www.herne.business
X-WR-CALDESC:Veranstaltungen für herne.business
REFRESH-INTERVAL;VALUE=DURATION:PT1H
X-Robots-Tag:noindex
X-PUBLISHED-TTL:PT1H
BEGIN:VTIMEZONE
TZID:Europe/Berlin
BEGIN:DAYLIGHT
TZOFFSETFROM:+0100
TZOFFSETTO:+0200
TZNAME:CEST
DTSTART:20250330T010000
END:DAYLIGHT
BEGIN:STANDARD
TZOFFSETFROM:+0200
TZOFFSETTO:+0100
TZNAME:CET
DTSTART:20251026T010000
END:STANDARD
BEGIN:DAYLIGHT
TZOFFSETFROM:+0100
TZOFFSETTO:+0200
TZNAME:CEST
DTSTART:20260329T010000
END:DAYLIGHT
BEGIN:STANDARD
TZOFFSETFROM:+0200
TZOFFSETTO:+0100
TZNAME:CET
DTSTART:20261025T010000
END:STANDARD
BEGIN:DAYLIGHT
TZOFFSETFROM:+0100
TZOFFSETTO:+0200
TZNAME:CEST
DTSTART:20270328T010000
END:DAYLIGHT
BEGIN:STANDARD
TZOFFSETFROM:+0200
TZOFFSETTO:+0100
TZNAME:CET
DTSTART:20271031T010000
END:STANDARD
END:VTIMEZONE
BEGIN:VEVENT
DTSTART;TZID=Europe/Berlin:20260422T140000
DTEND;TZID=Europe/Berlin:20260422T180000
DTSTAMP:20260425T182232
CREATED:20251203T065010Z
LAST-MODIFIED:20260302T085625Z
UID:8893-1776866400-1776880800@www.herne.business
SUMMARY:STARTERWERKSTATT-Teil I
DESCRIPTION:Inhalt\nMit Plan an den Start Das Erfolgsrezept für die Umsetzung Ihrer Geschäftsidee ist eine gute Vorbereitung! Es ist ähnlich wie beim Segeln: das Ziel muss klar sein\, die Mannschaft und der Steuermann müssen Ihre Aufgaben kennen\, die Einflussfaktoren wie das Wetter müssen geprüft werden\, bevor es los geht.\n\n\nZielgruppe\nDie Starter Werkstatt richtet sich an Personen\, die eine Gründungsidee haben\, und sich mit der Frage beschäftigen\, ob es sich „lohnt“\, diese weiterzuverfolgen. Die Teilnehmerzahl ist auf zehn Personen beschränkt.\n\n\nThemen\nSchwerpunkt der Werkstatt bilden die Planrechnungen. Mit dem Ende der Starterwerkstatt haben Sie \n\nInformationen\, was in einen Businessplan gehört\nkonkretere Vorstellungen über die Tragfähigkeit Ihrer Idee\nerste Planungszahlen für Ihr Vorhaben\nein erstes Feedback\n\nWas Sie mitbringen müssen? Offenheit\, Neugier und Grundkenntnisse in einem Tabellenkalkulationsprogramm 1. Termin: 3\,5 Stunden Einführung in die Grundlagen der Planrechnungen 2. Termin: Jede/r stellt (sofern gewollt) die eigenen Planrechnungen vor\n\n\nReferentin\nEva-Maria Siuda\, Unternehmensberaterin\, Gelsenkirchen\n\n\n\n\n\n\nKooperation \nSTARTEN in Herne und im Vest
URL:https://www.herne.business/event/starterwerkstatt-teil-i-5/
LOCATION:Online
CATEGORIES:Startercenter
ORGANIZER;CN="Startercenter NRW bei Herne.Business":MAILTO:startercenter@herne.business
END:VEVENT
END:VCALENDAR