BEGIN:VCALENDAR
VERSION:2.0
PRODID:-//herne.business - ECPv6.15.20//NONSGML v1.0//EN
CALSCALE:GREGORIAN
METHOD:PUBLISH
X-ORIGINAL-URL:https://www.herne.business
X-WR-CALDESC:Veranstaltungen für herne.business
REFRESH-INTERVAL;VALUE=DURATION:PT1H
X-Robots-Tag:noindex
X-PUBLISHED-TTL:PT1H
BEGIN:VTIMEZONE
TZID:Europe/Berlin
BEGIN:DAYLIGHT
TZOFFSETFROM:+0100
TZOFFSETTO:+0200
TZNAME:CEST
DTSTART:20250330T010000
END:DAYLIGHT
BEGIN:STANDARD
TZOFFSETFROM:+0200
TZOFFSETTO:+0100
TZNAME:CET
DTSTART:20251026T010000
END:STANDARD
BEGIN:DAYLIGHT
TZOFFSETFROM:+0100
TZOFFSETTO:+0200
TZNAME:CEST
DTSTART:20260329T010000
END:DAYLIGHT
BEGIN:STANDARD
TZOFFSETFROM:+0200
TZOFFSETTO:+0100
TZNAME:CET
DTSTART:20261025T010000
END:STANDARD
BEGIN:DAYLIGHT
TZOFFSETFROM:+0100
TZOFFSETTO:+0200
TZNAME:CEST
DTSTART:20270328T010000
END:DAYLIGHT
BEGIN:STANDARD
TZOFFSETFROM:+0200
TZOFFSETTO:+0100
TZNAME:CET
DTSTART:20271031T010000
END:STANDARD
END:VTIMEZONE
BEGIN:VEVENT
DTSTART;TZID=Europe/Berlin:20260218T093000
DTEND;TZID=Europe/Berlin:20260218T120000
DTSTAMP:20260425T215458
CREATED:20260128T091454Z
LAST-MODIFIED:20260128T091732Z
UID:9086-1771407000-1771416000@www.herne.business
SUMMARY:Von der Idee zum Darlehen
DESCRIPTION:Inhalt\nDie Idee ist da\, du bist überzeugt\, und nun? Wie geht es weiter? Gibt es Unterstützungsmöglichkeiten\, Förderung\, günstigere Kredite? \nDein Start in die Selbstständigkeit erfordert vielleicht einen so hohen Kapitaleinsatz\, dass er deine eigenen finanziellen Möglichkeiten übersteigt. Bei uns erhältst du Informationen\, wie es trotzdem gelingen kann.\n\n\nZielgruppe\nExistenzgründerinnen und -gründer\, junge Unternehmen\n\n\nThemen\n\n\nEin erster Überblick über einen Businessplan\nFördermöglichkeiten der NRW.BANK\nUmsetzung eines Kreditantrages bei der Hausbank\n\n\n\n\nReferent\nSilke Tappe\, STARTERCENTER Kreis Recklinghausen \nThomas Lanfermann\, Stadtsparkasse Gladbeck \nChristian Gnegel\, NRW.BANK\, Münster\n\n\nAnmeldung\nSTARTERCENTER Kreis Recklinghausen \nTel.: 0 23 61 53-43 30 \nE-Mail: startercenter@kreis-re.de\n\n\nKooperation \nSTARTEN in Herne und im Vest
URL:https://www.herne.business/event/von-der-idee-zum-darlehen/
LOCATION:Sparkasse Gladbeck\, Friederich-Ebert-Str. 2\, Gladbeck\, 45964
CATEGORIES:Startercenter
ORGANIZER;CN="STARTERCENTER Kreis Recklinghausen":MAILTO:startercenter@kreis-re.de
END:VEVENT
END:VCALENDAR